BEGIN:VCALENDAR
VERSION:2.0
PRODID:icalendar-ruby
CALSCALE:GREGORIAN
METHOD:PUBLISH
BEGIN:VEVENT
DTSTAMP:20260422T044902Z
UID:919-1145685@churchofthecross.ca
DTSTART:20260807T000000Z
DTEND:20260807T013000Z
CLASS:PUBLIC
CREATED:20260421T171710
DESCRIPTION:
LAST-MODIFIED:20260421T171710
LOCATION:Sanctuary
SUMMARY:ELCOC CHOIR
URL;VALUE=URI:https://www.churchofthecross.ca/events/elcoc-choir/2026-08-06
ATTACH;FILENAME=Thursday-Thoughts-Instagram-%281%29.png;FMTTYPE=image/png:h
 ttps://dq5pwpg1q8ru0.cloudfront.net/2026/01/03/21/50/32/b1c375ae-94de-4c40
 -9a03-611041db8233/Thursday-Thoughts-Instagram-%25281%2529.png
END:VEVENT
END:VCALENDAR
